BEGIN:VCALENDAR
VERSION:2.0
PRODID:-//Samfundet S:t Erik - ECPv6.15.12.2//NONSGML v1.0//EN
CALSCALE:GREGORIAN
METHOD:PUBLISH
X-ORIGINAL-URL:https://samfundetsterik.se
X-WR-CALDESC:Händelser för Samfundet S:t Erik
REFRESH-INTERVAL;VALUE=DURATION:PT1H
X-Robots-Tag:noindex
X-PUBLISHED-TTL:PT1H
BEGIN:VTIMEZONE
TZID:Europe/Stockholm
BEGIN:DAYLIGHT
TZOFFSETFROM:+0100
TZOFFSETTO:+0200
TZNAME:CEST
DTSTART:20220327T010000
END:DAYLIGHT
BEGIN:STANDARD
TZOFFSETFROM:+0200
TZOFFSETTO:+0100
TZNAME:CET
DTSTART:20221030T010000
END:STANDARD
BEGIN:DAYLIGHT
TZOFFSETFROM:+0100
TZOFFSETTO:+0200
TZNAME:CEST
DTSTART:20230326T010000
END:DAYLIGHT
BEGIN:STANDARD
TZOFFSETFROM:+0200
TZOFFSETTO:+0100
TZNAME:CET
DTSTART:20231029T010000
END:STANDARD
BEGIN:DAYLIGHT
TZOFFSETFROM:+0100
TZOFFSETTO:+0200
TZNAME:CEST
DTSTART:20240331T010000
END:DAYLIGHT
BEGIN:STANDARD
TZOFFSETFROM:+0200
TZOFFSETTO:+0100
TZNAME:CET
DTSTART:20241027T010000
END:STANDARD
END:VTIMEZONE
BEGIN:VEVENT
DTSTART;TZID=Europe/Stockholm:20230504T173000
DTEND;TZID=Europe/Stockholm:20230504T190000
DTSTAMP:20260419T165327
CREATED:20230409T084939Z
LAST-MODIFIED:20230417T083509Z
UID:10000019-1683221400-1683226800@samfundetsterik.se
SUMMARY:I postmodernismens offentliga rum (vandring)
DESCRIPTION:Modernismens i alla fall symboliska slutpunkt inföll med alm­striden i Kungsträdgården 1971. Därefter vidtog en kort och intensiv epok som på många sätt förlöste oss från modernismens stränga dogmer ‒ nämligen postmodernismen som i stället betonade det personliga och humoristiska inom design. Allt behövde inte vara logiskt eller hänga ihop. Tider kunde blandas. Alla tolkningar var tillåtna. \nThorbjörn Andersson\, landskapsarkitekt\, leder oss genom tre stadsrum som förnyades under epoken\, Kungsträdgården\, Blasieholmstorg och Stureplan. \n\n\n\nNär:\nTor 4 maj kl 17.30–19.00 (ca)\n\n\nSamling:\nBlasieholmstorg\, östra hästen.\n\n\nKostnad:\n120 kr
URL:https://samfundetsterik.se/evenemang/i-postmodernismens-offentliga-rum-vandring-2/
LOCATION:Blasieholmstorg\, östra hästen.
ATTACH;FMTTYPE=image/jpeg:https://samfundetsterik.se/wp-content/uploads/2023/04/Kungstradgarden--scaled.jpg
END:VEVENT
BEGIN:VEVENT
DTSTART;TZID=Europe/Stockholm:20230507T140000
DTEND;TZID=Europe/Stockholm:20230507T160000
DTSTAMP:20260419T165327
CREATED:20230409T084806Z
LAST-MODIFIED:20230418T132018Z
UID:10000018-1683468000-1683475200@samfundetsterik.se
SUMMARY:Skyltsöndag - vandring på Stigberget. FULLTECKNAD
DESCRIPTION:I år är det 30 år sedan Samfundet S:t Erik började sätta upp sina blå emaljskyltar på husen runt om i stan för att berätta om stads\, husens och stockholmarnas historia. Det vill vi fira med en vandring på Stigberget på östra Södermalm där vi följer de blå skyltarna och bekantar oss med byggnader av alla de slag och de människor som bodde och verkade här – allti­från trubadurer\, miljöaktivister till diakonissor. \nGuide är Suzanne Lindhagen\, byggnadsantikvarie och ansvarig i Samfundets styrelse för skyltverksamhet. \n\n\n\nNär:\nSön 7 maj kl 14.00–16.00 (ca)\n\n\nSamling:\nStadsgårdshissen\, där Katarinavägen övergår i Renstiernas Gata.\nObs! många trappor och backigt.\n\n\nKostnad:\n120 kr
URL:https://samfundetsterik.se/evenemang/skyltsondag-vandring-pa-stigberget/
LOCATION:Stadsgårdshissen\, där Katarinavägen övergår i Renstiernas Gata. Obs! många trappor och backigt.
ATTACH;FMTTYPE=image/jpeg:https://samfundetsterik.se/wp-content/uploads/2023/04/lennart-af-petersens.jpg
END:VEVENT
BEGIN:VEVENT
DTSTART;TZID=Europe/Stockholm:20230510T160000
DTEND;TZID=Europe/Stockholm:20230510T180000
DTSTAMP:20260419T165327
CREATED:20230409T084630Z
LAST-MODIFIED:20230410T102452Z
UID:10000017-1683734400-1683741600@samfundetsterik.se
SUMMARY:Söder Mälarstrands husbåtar (visning)
DESCRIPTION:Vem har väl inte någon gång drömt om att bo på en husbåt? Och att dessutom få göra det mitt i city med tillgång till allt staden har att erbjuda och med vattnet utanför dörren? Det är dock en ynnest som är få förunnad – tillgången på platser där husbåtar tillåts är begränsad. Längs Söder Mälarstrand finns idag 24 bostadsbåtar av varierande storlek\, som samtliga uppfyller Stockholmsklass\, dvs de är i gott skick och utgör ett uppskattat inslag i gatubilden. \nBjörn Asplund\, ordförande i Föreningen Stockholms Skepps­bostäder\, ger oss en inblick i livet på husbåt och vi ges även till­träde till ett flertal av båtarna. \nObs! Vanskligt att borda vissa av båtarna.
URL:https://samfundetsterik.se/evenemang/soder-malarstrands-husbatar-visning-2/
LOCATION:Elvira Madigan\, Söder Mälarstrand 214\, närmaste t-bana Zinkensdamm..
ATTACH;FMTTYPE=image/jpeg:https://samfundetsterik.se/wp-content/uploads/2023/04/bobatar-scaled.jpg
END:VEVENT
BEGIN:VEVENT
DTSTART;TZID=Europe/Stockholm:20230516T173000
DTEND;TZID=Europe/Stockholm:20230516T190000
DTSTAMP:20260419T165327
CREATED:20230409T084435Z
LAST-MODIFIED:20230418T132230Z
UID:10000016-1684258200-1684263600@samfundetsterik.se
SUMMARY:I postmodernismens offentliga rum (vandring). FULLTECKNAD
DESCRIPTION:Modernismens i alla fall symboliska slutpunkt inföll med alm­striden i Kungsträdgården 1971. Därefter vidtog en kort och intensiv epok som på många sätt förlöste oss från modernismens stränga dogmer ‒ nämligen postmodernismen som i stället betonade det personliga och humoristiska inom design. Allt behövde inte vara logiskt eller hänga ihop. Tider kunde blandas. Alla tolkningar var tillåtna. \nThorbjörn Andersson\, landskapsarkitekt\, leder oss genom tre stadsrum som förnyades under epoken\, Kungsträdgården\, Blasieholmstorg och Stureplan \n\n\n\nNär:\nTis 16 maj kl 17.30–19.00 (ca)\n\n\nSamling:\nBlasieholmstorg\, östra hästen\n\n\nKostnad:\n120 kr
URL:https://samfundetsterik.se/evenemang/i-postmodernismens-offentliga-rum-vandring/
LOCATION:Blasieholmstorg\, östra hästen.
ATTACH;FMTTYPE=image/jpeg:https://samfundetsterik.se/wp-content/uploads/2023/04/Kungstradgarden--scaled.jpg
END:VEVENT
BEGIN:VEVENT
DTSTART;TZID=Europe/Stockholm:20230522T173000
DTEND;TZID=Europe/Stockholm:20230522T190000
DTSTAMP:20260419T165327
CREATED:20230409T084312Z
LAST-MODIFIED:20230417T084445Z
UID:10000015-1684776600-1684782000@samfundetsterik.se
SUMMARY:Moder Svea och Gustav Vasa - symboler som formade ett nationellt medvetande (vandring)
DESCRIPTION:”Warer svenske” är en uppmaning som möter besökaren på Nordiska museet. Men vad innebär det att vara svensk och hur lär man sig det? Stadsvandringen lyfter fram symbolladdade byggnader\, statyer och traditioner som tillkom för att skapa en känsla av nationell gemenskap och nationellt medvetande. \nGuide är Michael Karlsson\, historiker. \n\n\n\nNär:\nMån 22 maj kl 17.30–19.00 (ca)\n\n\nSamling:\nBirger Jarls Torg 4\n\n\nKostnad:\n120 kr
URL:https://samfundetsterik.se/evenemang/moder-svea-och-gustav-vasa-symboler-som-formade-ett-nationellt-medvetande-vandring-4/
LOCATION:Birger Jarls Torg 4
ATTACH;FMTTYPE=image/jpeg:https://samfundetsterik.se/wp-content/uploads/2023/04/Presentation1.jpg
END:VEVENT
BEGIN:VEVENT
DTSTART;TZID=Europe/Stockholm:20230524T160000
DTEND;TZID=Europe/Stockholm:20230524T180000
DTSTAMP:20260419T165327
CREATED:20230409T083524Z
LAST-MODIFIED:20230417T084826Z
UID:10000013-1684944000-1684951200@samfundetsterik.se
SUMMARY:Söder Mälarstrands husbåtar (visning)
DESCRIPTION:Vem har väl inte någon gång drömt om att bo på en husbåt? Och att dessutom få göra det mitt i city med tillgång till allt staden har att erbjuda och med vattnet utanför dörren? Det är dock en ynnest som är få förunnad – tillgången på platser där husbåtar tillåts är begränsad. Längs Söder Mälarstrand finns idag 24 bostadsbåtar av varierande storlek\, som samtliga uppfyller Stockholmsklass\, dvs de är i gott skick och utgör ett uppskattat inslag i gatubilden. \nBjörn Asplund\, ordförande i Föreningen Stockholms Skepps­bostäder\, ger oss en inblick i livet på husbåt och vi ges även till­träde till ett flertal av båtarna. \nObs! Vanskligt att borda vissa av båtarna. \n\n\n\nNär:\nOns 24 maj kl 16.00–18.00 (ca)\n\n\nSamling:\nElvira Madigan\, Söder Mälarstrand 214\, närmaste t-bana Zinkensdamm.\n\n\nKostnad:\n120 kr
URL:https://samfundetsterik.se/evenemang/soder-malarstrands-husbatar-visning/
LOCATION:Elvira Madigan\, Söder Mälarstrand 214\, närmaste t-bana Zinkensdamm..
ATTACH;FMTTYPE=image/jpeg:https://samfundetsterik.se/wp-content/uploads/2023/04/bobatar-scaled.jpg
END:VEVENT
BEGIN:VEVENT
DTSTART;TZID=Europe/Stockholm:20230531T170000
DTEND;TZID=Europe/Stockholm:20230531T183000
DTSTAMP:20260419T165327
CREATED:20230409T083256Z
LAST-MODIFIED:20230418T132355Z
UID:10000012-1685552400-1685557800@samfundetsterik.se
SUMMARY:Gamla Enskede – i Hallmans fotspår (vandring). FULLTECKNAD
DESCRIPTION:Vi rundvandrar längs slingrande gator i Gamla Enskede vars stadsplan från 1908 har Per Hallman som arkitekt och som har byggts ut under ett flertal decennier. Vi ser på hus från olika epoker och passerar kyrkan\, skolan\, Margaretaparken\, radhusen. men även senare delar och platser där ny bebyggelse föreslagits. \nGuide är Kjell Forshed\, arkitekt SAR/MSA och skribent i Samfundet S:t Eriks årsbok om Hallman. \n\n\n\nNär:\nOns 31 maj kl 17.00–18.30 (ca)\n\n\nSamling:\n16.30 utanför Sandborg t-banestation för gemensam promenad (400 m). Du som tar dig dit på egen hand möter upp strax före vandringen som startar vid Triangelparken (Triangelvägen 13).\n\n\nKostnad:\n120 kr
URL:https://samfundetsterik.se/evenemang/gamla-enskede-i-hallmans-fotspar-vandring-2/
LOCATION:16.30 utanför Sandborg t-banestation för gemensam promenad (400 m). Du som tar dig dit på egen hand möter upp strax före vandringen startar vid Triangelparken (Triangelvägen 13).
ATTACH;FMTTYPE=image/jpeg:https://samfundetsterik.se/wp-content/uploads/2023/04/Enskede_tradgardsstad_stadplan_1907.jpg
END:VEVENT
END:VCALENDAR