BEGIN:VCALENDAR
VERSION:2.0
PRODID:-//Samfundet S:t Erik - ECPv6.15.12.2//NONSGML v1.0//EN
CALSCALE:GREGORIAN
METHOD:PUBLISH
X-ORIGINAL-URL:https://samfundetsterik.se
X-WR-CALDESC:Händelser för Samfundet S:t Erik
REFRESH-INTERVAL;VALUE=DURATION:PT1H
X-Robots-Tag:noindex
X-PUBLISHED-TTL:PT1H
BEGIN:VTIMEZONE
TZID:Europe/Stockholm
BEGIN:DAYLIGHT
TZOFFSETFROM:+0100
TZOFFSETTO:+0200
TZNAME:CEST
DTSTART:20250330T010000
END:DAYLIGHT
BEGIN:STANDARD
TZOFFSETFROM:+0200
TZOFFSETTO:+0100
TZNAME:CET
DTSTART:20251026T010000
END:STANDARD
BEGIN:DAYLIGHT
TZOFFSETFROM:+0100
TZOFFSETTO:+0200
TZNAME:CEST
DTSTART:20260329T010000
END:DAYLIGHT
BEGIN:STANDARD
TZOFFSETFROM:+0200
TZOFFSETTO:+0100
TZNAME:CET
DTSTART:20261025T010000
END:STANDARD
BEGIN:DAYLIGHT
TZOFFSETFROM:+0100
TZOFFSETTO:+0200
TZNAME:CEST
DTSTART:20270328T010000
END:DAYLIGHT
BEGIN:STANDARD
TZOFFSETFROM:+0200
TZOFFSETTO:+0100
TZNAME:CET
DTSTART:20271031T010000
END:STANDARD
END:VTIMEZONE
BEGIN:VEVENT
DTSTART;TZID=Europe/Stockholm:20260602T090000
DTEND;TZID=Europe/Stockholm:20260602T180000
DTSTAMP:20260425T021853
CREATED:20260205T102240Z
LAST-MODIFIED:20260205T103950Z
UID:10000171-1780390800-1780423200@samfundetsterik.se
SUMMARY:Vårstavi och Segersäng (bussutflykt)\, tisdag 2 juni kl 09.00–18.00 (ca)
DESCRIPTION:BUSSUTFLYKT TILL VÅRSTAVI OCH SEGERSÄNG \nVi besöker Vårstavi\, som konstnären och psykiatrikern Poul Bjerre lät uppföra tillsammans med sin hustru Gunhild Posse för snart 150 år sedan. Villan\, byggd i Arts and Crafts-stil\, ligger idylliskt vid Malmsjön i Vårsta\, Botkyrka. Här utvecklade Poul Bjerre sina banbrytande tankar om psykoterapi och människans inre liv\, och härifrån drev han sitt livslånga engagemang för fred och mänsklig förståelse. Vårstavi blev en mötesplats där läkare\, författare\, konstnärer och filosofer samlades för samtal om vetenskap\, konst och samhällets framtid.\nVårstavi förvärvades 2023 av Botkyrka kommun. Dessförinnan var gården ute ett antal gånger till allmän försäljning och dess framtid osäker. \nVi fortsätter till Segersängs by\, uppfört 1996–2010 i regi av SMÅA\, med Hans Bäckström\, Södergruppen\, som ansvarig arkitekt. Förebilderna hämtades i landskapets traditionella bebyggelse och miljö. Förslaget vann tävlingen ”Idétävling för framtidens landsbygd” 1993. \nMonica Andersson\, fil dr statsvetenskap och tidigare ordförande i Samfundet S:t Erik guidar oss och berättar om området. \nYtterligare besöksmål kan tillkomma i mån av tid. \nHär kan ni läsa mer om Vårstavi och Poul Bjerre:\nhttps://poulbjerre.org/wp-content/uploads/2020/06/bjc3b6rn-sahlins-text-om-vc3a5rstavi.pdf \nBotkyrka kommun som 2025 förvärvade fastigheten har följande information på sin hemsida:\nhttps://poulbjerre.org/wp-content/uploads/2020/06/bjc3b6rn-sahlins-text-om-vc3a5rstavi.pdf \n\n\n\nNär:\nTisdag 2 juni kl 09.00–18.00 (ca)\n\n\nSamling:\nKl 08.45 vid Karlbergsvägen 22 (Odenplan)\, snett emot Gustav Vasa kyrka\n\n\nKostnad:\n300 kr\n\n\nAnmälan:\nBiljettsläpp onsdag 29 april kl 10.00 (ca)\n\n\nÖvrigt:\nLunchstopp troligtvis på Häringe slott. Mer information kommer. Det går naturligtvis utmärkt att ta med sig egen matsäck.
URL:https://samfundetsterik.se/evenemang/varstavi-och-segersang-bussutflykt-tisdag-2-juni-kl-09-00-18-00-ca/
ATTACH;FMTTYPE=image/jpeg:https://samfundetsterik.se/wp-content/uploads/2026/02/Varstavi.jpg
END:VEVENT
END:VCALENDAR