BEGIN:VCALENDAR
VERSION:2.0
PRODID:-//Samfundet S:t Erik - ECPv6.15.12.2//NONSGML v1.0//EN
CALSCALE:GREGORIAN
METHOD:PUBLISH
X-WR-CALNAME:Samfundet S:t Erik
X-ORIGINAL-URL:https://samfundetsterik.se
X-WR-CALDESC:Händelser för Samfundet S:t Erik
REFRESH-INTERVAL;VALUE=DURATION:PT1H
X-Robots-Tag:noindex
X-PUBLISHED-TTL:PT1H
BEGIN:VTIMEZONE
TZID:Europe/Stockholm
BEGIN:DAYLIGHT
TZOFFSETFROM:+0100
TZOFFSETTO:+0200
TZNAME:CEST
DTSTART:20250330T010000
END:DAYLIGHT
BEGIN:STANDARD
TZOFFSETFROM:+0200
TZOFFSETTO:+0100
TZNAME:CET
DTSTART:20251026T010000
END:STANDARD
BEGIN:DAYLIGHT
TZOFFSETFROM:+0100
TZOFFSETTO:+0200
TZNAME:CEST
DTSTART:20260329T010000
END:DAYLIGHT
BEGIN:STANDARD
TZOFFSETFROM:+0200
TZOFFSETTO:+0100
TZNAME:CET
DTSTART:20261025T010000
END:STANDARD
BEGIN:DAYLIGHT
TZOFFSETFROM:+0100
TZOFFSETTO:+0200
TZNAME:CEST
DTSTART:20270328T010000
END:DAYLIGHT
BEGIN:STANDARD
TZOFFSETFROM:+0200
TZOFFSETTO:+0100
TZNAME:CET
DTSTART:20271031T010000
END:STANDARD
END:VTIMEZONE
BEGIN:VEVENT
DTSTART;TZID=Europe/Stockholm:20260325T180000
DTEND;TZID=Europe/Stockholm:20260325T193000
DTSTAMP:20260425T142024
CREATED:20260129T125436Z
LAST-MODIFIED:20260301T191335Z
UID:10000165-1774461600-1774467000@samfundetsterik.se
SUMMARY:Fågelpromenader i Kungliga Nationalstadsparken (föredrag)\, onsdag 25 mars kl 18.00–19.30 (ca)
DESCRIPTION:FÅGELPROMENADER I KUNGLIGA NATIONALSTADSPARKEN \nKungliga nationalstadsparken är ett unikt natur- och kulturlandskap\, unikt såväl nationellt som internationellt. Här finns nämligen en svårslagen kombination av natur\, kultur och historisk miljö. \nMed Henrik Waldenström\, ornitolog och författare till boken\, som guide rör vi oss från Stockholms äldsta delar vid Kungliga slottet strax utanför Nationalstadsparken via Skeppsholmen i väster till Blockhusudden och Fjäderholmarna i öster och sedan i riktning mot nordväst till Sörentorp i Solna kommun. Däremellan de kungliga parkerna Djurgården\, Haga- och Ulriksdal. \nI samarbete med Stadsmuseet i Stockholm. \n\n\n\nNär:\nOnsdag 25 mars kl 18.00–19.30 (ca)\n\n\nVar:\nStadsmuseet\, Sevenbomssalen (2 tr)\n\n\nKostnad:\n60 kr\n\n\nAnmälan:\nBiljettsläpp måndag 2 mars kl 10.00 (ca)\n\n\n\nBild: Omslagsbild till boken Fågelpromenader i Kungliga Nationalstadsparken (2025)\, foto Stefan Oscarsson
URL:https://samfundetsterik.se/evenemang/fagelpromenader-i-kungliga-nationalstadsparken-foredrag-onsdag-25-mars-kl-18-00-19-30-ca/
LOCATION:Stadsmuseet\, Ryssgården\, Stockholm
ATTACH;FMTTYPE=image/jpeg:https://samfundetsterik.se/wp-content/uploads/2026/01/Fagelpromenader-scaled-liten-1.jpg
END:VEVENT
BEGIN:VEVENT
DTSTART;TZID=Europe/Stockholm:20260414T170000
DTEND;TZID=Europe/Stockholm:20260414T183000
DTSTAMP:20260425T142024
CREATED:20260129T133656Z
LAST-MODIFIED:20260408T063543Z
UID:10000168-1776186000-1776191400@samfundetsterik.se
SUMMARY:Örnsberg – att ta hand om det "fula" (vandring)\, tisdag 14 april 17.00–18.30 (ca)
DESCRIPTION:ÖRNSBERG – ATT TA HAND OM DET ”FULA”  \nMånga kontorsbyggnader från 1960-\, 70- och 80-talen står inför rivning i spåren av pågående stadsutveckling. De har sällan hunnit bli klassificerade eller är lågt klassificerade av stadsmuseet och betraktas av både politiker och allmänhet som fula och därför försumbara. Men vi har inte råd att välja bort det vi inte gillar menar Blick Arkitektur som sedan 2022 arbetat med projektet ”Att återbruka det fula” där periodens kontorsbyggnader i stället ses som en självklar resurs att bevara och omvandla till attraktiva bostäder. \nArkitekterna Johan Holkers och Daniel Lindberg från Blick Arkitektur\, tar oss med till exemplet Örnsberg. \n\n\n\nNär:\nTisdag 14 april kl 17.00–18.30 (ca)\n\n\nSamling:\nÖrnbergs torg\, utanför T-banan (Röda linjen mot Norsborg\, station Örnsberg)\n\n\nKostnad:\n120 kr\n\n\nAnmälan:\nBiljettsläpp onsdag 8 april kl 10.00 (ca)\n\n\n\nIllustrationsplan: ÅWL arkitekter
URL:https://samfundetsterik.se/evenemang/ornsberg-att-ta-hand-om-det-fula-vandring-tisdag-14-april-17-00-18-30-ca/
LOCATION:Örnsbergstorg
ATTACH;FMTTYPE=image/jpeg:https://samfundetsterik.se/wp-content/uploads/2026/01/Ornsberg-illustrationsplan-AWL-arkitekter-liten-1.jpg
END:VEVENT
BEGIN:VEVENT
DTSTART;TZID=Europe/Stockholm:20260416T140000
DTEND;TZID=Europe/Stockholm:20260416T153000
DTSTAMP:20260425T142024
CREATED:20260120T104615Z
LAST-MODIFIED:20260414T074254Z
UID:10000154-1776348000-1776353400@samfundetsterik.se
SUMMARY:Med höjd blick – vilken stil har husen? (vandring)\, torsdag 16 april kl 14.00–15.30 (ca)
DESCRIPTION:MED HÖJD BLICK – VILKEN STIL HAR HUSEN? \nVad utmärker ett hus från 1880-talet. Från 1890-talet? Osv. Och hur kan\nvi avgöra att en fasadhyvlad byggnad som ser relativt nybyggd ut\, i själva\nverket är betydligt äldre. Vi utforskar olika stilepoker decennievis\, från\n1700-talet och framåt\, såsom rokoko\, nystilarna\, nationalromantik\,\ntjugotalsklassicismen och funktionalism. \nLotta von Liewen Wistrand\, arkitekturhistoriker och verksamhetsansvarig\npå Samfundet S:t Erik leder vandringen. \n\n\n\nNär:\nTorsdag 16 april\, kl 14.00–15.30 (ca)\nNästa tillfälle: Onsdag 27 maj\, kl 17.30–19.00\n\n\nSamling:\nHantverkargatan 5 (innanför portalen till Kungliga myntet)\n\n\nKostnad:\n120 kr\n\n\nAnmälan:\nBiljetterna släpps onsdag 8 april mars kl 10.00 (ca) på vår hemsida\n\n\nÖvrigt\nHitta hit. T-bana blå linje till Rådhuset\, uppgång (östra) Hantverkargatan / Stadshuset\n\n\n\nBilden är ett utsnitt från färgaffischen Stockholms malmar – epoker och färgkaraktärer\, Stockholms stadsbyggnadskontor\, 1980.
URL:https://samfundetsterik.se/evenemang/med-hojd-blick-vilken-stil-har-husen-vandring-torsdag-16-april-kl-14-00-15-30-ca/
ATTACH;FMTTYPE=image/jpeg:https://samfundetsterik.se/wp-content/uploads/2025/10/Stilanalys2.jpg
END:VEVENT
BEGIN:VEVENT
DTSTART;TZID=Europe/Stockholm:20260420T173000
DTEND;TZID=Europe/Stockholm:20260420T193000
DTSTAMP:20260425T142024
CREATED:20260129T122402Z
LAST-MODIFIED:20260414T074138Z
UID:10000164-1776706200-1776713400@samfundetsterik.se
SUMMARY:Nödbostäder och härbärgen i Norra Stockholm ca 1850–1939 (vandring)\, måndag 20 april kl 17.30–19.30 (ca)
DESCRIPTION:NÖDBOSTÄDER OCH HÄRBÄRGEN I NORRA STOCKHOLM CA 1850–1930 \nEn socialhistorisk stadsvandring längs det som en gång var stadens norra utkanter. I den urbana periferin kom ett antal nödbostäder\, fattigbaracker och härbärgen att placeras. En del av byggnaderna är borta\, medan andra finns kvar. Vi ses på Fleminggatan 24 utanför Grubbens och beger oss på en promenad\, mestadels norrut\, som avslutas vid Körsbärsvägen. Under vandringen behandlar vi olika försök att lindra den återkommande bostadsnöden och framväxten av den sociala bostadspolitiken. \nVår ciceron är fil dr Hannes Rolf som arbetar vid Stads- och kommunhistoriska institutet\, Stockholms universitet\, och håller på att avsluta ett forskningsprojekt och en bok om ämnet. \nObs! Lång promenad. För att spara tid och kraft åker vi tunnelbana mellan Fridhemsplan och Odenplan. \n\n\n\nNär:\nMåndag 20 april kl 17.30−19.30 (ca)\n\n\nSamling:\nFleminggatan 24\n\n\nKostnad:\n120 kr\n\n\nAnmälan:\nBiljettsläpp måndag 2 mars kl 10.00 (ca)\n\n\n\nBild: Nödbostäder Ruddammen\, fotograf Lennart af Petersens 1946\, Stockholmskällan
URL:https://samfundetsterik.se/evenemang/nodbostader-och-harbargen-i-norra-stockholm-ca-1850-1939-vandring-mandag-20-april-kl-17-30-19-30-ca/
ATTACH;FMTTYPE=image/jpeg:https://samfundetsterik.se/wp-content/uploads/2026/01/Nodbostader-Ruddammen-Lennart-af-Petersens-liten.jpg
END:VEVENT
BEGIN:VEVENT
DTSTART;TZID=Europe/Stockholm:20260422T183000
DTEND;TZID=Europe/Stockholm:20260422T220000
DTSTAMP:20260425T142024
CREATED:20260401T103242Z
LAST-MODIFIED:20260402T074447Z
UID:10000181-1776882600-1776895200@samfundetsterik.se
SUMMARY:Årsmöte onsdag 22 april 2026\, kl 18.30–22.00 (ca)\, Bryggarsalen
DESCRIPTION:KALLELSE TILL ÅRSMÖTE 2026\nSamfundet S:t Eriks medlemmar kallas härmed till årsmöte den onsdagen den 22 april 2026 kl 18.30–20.00.\nObs! Årsmötet äger rum i Bryggarsalen\, Brygghuset\, Norrtullsgatan 12N\, 113 27 Stockholm (nära Odenplan). \nÅrsmötet är kostnadsfritt\, men föranmäl dig gärna (dock ej obligatoriskt). \nÅrsmötesprogram\nOrdförande Knut Weibull hälsar välkommen \nSedvanliga årsmötesförhandlingar \nAvtackning avgående ledamöter \nUtdelning av Samfundet S:t Eriks belöningsplakett och pris 2026\n”Tilldelas den som i samfundets anda utfört berömliga insatser av vetenskaplig\, konstnärlig\, journalistisk\neller kulturminnesvårdande natur”. \nUtdelning av Stockholmiapriset 2026\nUppsatstävling för bästa master- eller magisteruppsats (godkänd under läsåret 2025) i samarbete mellan\nSamfundet S:t Erik\, Stockholmia – forskning och förlag och Stadsarkivet. \n125 år av kärlek till Stockholm – Samfundet S:t Erik i arkiven\nHampus Busk\, arkivarie vid Stockholms stadsarkiv\, berättar med utgångspunkt i Samfundet S:t Eriks omfångsrika arkiv i Stockholms stadsarkiv. Genom protokoll\, årsböcker och oväntade spår väcks historien till liv i en stillsam men tankeväckande upptäcktsfärd. Här framträder berättelsen om ett samfund som inte bara följt stadens utveckling sedan 1901 – utan också varit med och format hur vi förstår Stockholm av idag.\n \nMingel\nDirekt efter årsmötet\, cirka kl 20.00 välkomnas medlemmarna till mingel tillsammans med samfundets\nstyrelse och gäster.\nBiljett till minglet köps via vår hemsida utifrån två alternativ: ett glas mousserande för 95 kronor inklusive snacks\neller ett glas alkoholfritt för 50 kronor inklusive snacks.\nMinglet avslutas cirka kl 22.00. \nDirektlänk biljett 95 kronor \nDirektlänk biljett 50 kronor \nVarmt välkomna! \nDAGORDNING \n\nÅrsmötets öppnande\nVal av ordförande vid mötet\nVal av sekreterare vid mötet\nVal av en person att jämte ordföranden justera dagens protokoll\nGodkännande av dagordningen för årsmötet\nFråga om årsmötet sammankallats i behörig ordning\nFramläggande av årsredovisning för 2025 och revisorernas berättelse för verksamhetsåret\nBeslut om fastställande av resultat- och balansräkningarna för 2025\nBeslut om disposition av årets vinst\nFråga om ansvarsfrihet för styrelseledamöterna\nVal av ordförande för samfundet\, för en tid av ett år\nVal av tre ordinarie ledamöter i styrelsen\, för en tid av två år\nVal av två suppleanter i styrelsen\, för en tid av två år\nVal av två ordinarie revisorer och två revisorssuppleanter\, för en tid av ett år\nVal av valberedning om tre personer\, för en tid av ett år\nFastställande av medlemsavgifter för år 2027\nFastställande av arvode till styrelsen för år 2026\nInkommen motion\nÅrsmötets avslutande\n\nÅrsmöteshandlingar\nDagordning med bilagor inkl. inkommen motion och styrelsens svar\nÅrsredovisning 2025\nRevisionsberättelse 2025 \nVerksamhetsberättelse 2025 \n 
URL:https://samfundetsterik.se/evenemang/arsmote-onsdag-22-april-kl-18-30-22-00-ca-bryggarsalen/
ATTACH;FMTTYPE=image/jpeg:https://samfundetsterik.se/wp-content/uploads/2025/02/arsmote2025-scaled.jpg
END:VEVENT
BEGIN:VEVENT
DTSTART;TZID=Europe/Stockholm:20260422T200000
DTEND;TZID=Europe/Stockholm:20260422T220000
DTSTAMP:20260425T142024
CREATED:20260330T145548Z
LAST-MODIFIED:20260402T080144Z
UID:10000180-1776888000-1776895200@samfundetsterik.se
SUMMARY:Årsmötesmingel à 50 kr (alkoholfri dryck med snacks ingår)
DESCRIPTION:
URL:https://samfundetsterik.se/evenemang/arsmotesmingel-a-50-kr-alkoholfri-dryck-med-snacks-ingar/
ATTACH;FMTTYPE=image/jpeg:https://samfundetsterik.se/wp-content/uploads/2026/03/arsmotesmingel.jpg
END:VEVENT
BEGIN:VEVENT
DTSTART;TZID=Europe/Stockholm:20260422T200000
DTEND;TZID=Europe/Stockholm:20260422T220000
DTSTAMP:20260425T142024
CREATED:20260331T115026Z
LAST-MODIFIED:20260402T080213Z
UID:10000182-1776888000-1776895200@samfundetsterik.se
SUMMARY:Årsmötesmingel à 95 kr (1 glas mousserande vin snacks ingår)
DESCRIPTION:
URL:https://samfundetsterik.se/evenemang/arsmotesmingel-a-90-kr-alkoholfri-dryck-med-snacks-ingar/
ATTACH;FMTTYPE=image/jpeg:https://samfundetsterik.se/wp-content/uploads/2026/03/arsmotesmingel2.jpg
END:VEVENT
BEGIN:VEVENT
DTSTART;TZID=Europe/Stockholm:20260428T130000
DTEND;TZID=Europe/Stockholm:20260428T150000
DTSTAMP:20260425T142024
CREATED:20260129T131755Z
LAST-MODIFIED:20260408T064227Z
UID:10000166-1777381200-1777388400@samfundetsterik.se
SUMMARY:Slussen – vad har hänt? Vad händer härnäst? (vandring)\, tisdag 28 april kl 13.00–15.00 (ca)
DESCRIPTION:SLUSSEN – VAD HAR HÄNT? VAD HÄNDER HÄRNÄST? \nSlussens framtid har diskuterats under lång tid. Flera samråd\, arkitektuppdrag och tävlingar har genomförts och allmänheten har visat ett stort engagemang kring platsens framtida utformning. Den omtalade guldbron är på plats\, Vattentorget med sina avbördningssystem och slussränna är invigd och på Södermalmssidan har slutfinishen av Södermalmstorg med plantering av träd nyligen genomförts. I nästa etapp ska stadsgårdsleden överdäckas för att ge rum åt bland annat Katarinaparken och Nobelcenter. \nAnders Falk\, landskapsarkitekt och tidigare samordnare av gestaltningsfrågor i stadens Slussenorganisation\, och Mattias Nordström\, ansvarig landskapsarkitekt hos White landskapsarkitekter under program- och systemhandlingsskedet tar oss med på en rundtur i det pågående bygget.\nObs! Ingen av våra guider arbetar med projektet i nuläget. \n\n\n\nNär:\nTisdag 28 april kl 13.00–15.00 (ca) \nNästa tillfälle:\nTisdag 19 maj kl 17.30–19.30 (ca)\n\n\nSamling:\nMitt på Ryssgården\, mellan de båda T-baneuppgångarna framför Stadsmuseet.\n\n\nKostnad:\n120 kr\n\n\nAnmälan:\nBiljettsläpp onsdag 8 april kl 10.00 (ca)\n\n\n\nBild: DBOX / Foster + Partners
URL:https://samfundetsterik.se/evenemang/slussen-vad-har-hant-vad-hander-harnast-vandring-tisdag-28-april-kl-13-00-15-00-ca/
LOCATION:Ryssgården\, Slussen
ATTACH;FMTTYPE=image/jpeg:https://samfundetsterik.se/wp-content/uploads/2026/01/Slussen-liten.jpg
END:VEVENT
BEGIN:VEVENT
DTSTART;TZID=Europe/Stockholm:20260505T173000
DTEND;TZID=Europe/Stockholm:20260505T193000
DTSTAMP:20260425T142024
CREATED:20260129T141544Z
LAST-MODIFIED:20260301T191711Z
UID:10000170-1778002200-1778009400@samfundetsterik.se
SUMMARY:Brunkeberg\, (vandring)\, tisdag 5 maj kl 17.30-19.30 (ca)
DESCRIPTION:BRUNKEBERG \nNöjesliv och fest\, misär och mord\, gammalt och nytt\, tradition och modernitet\, telefoner\, badhus\, brunnar\, brandstationer och kyrkor\, prostitution\, åldringsvård\, frikyrkokapell\, försvunna torg\, spelklubbar\, och ett försvunnet hus med färgstark historia. Vi vandrar från Gustav Adolfs torg till Brunkebergstorg och vidare till Johannes kyrka under ledning av idéhistoriker Christian Gradholt. \nObs! Lång promenadsträcka \n\n\n\nNär:\nTisdag 5 maj kl 17.30-19.30 (ca)\n\n\nSamling:\nGustav Adolfs Torg vid statyn\n\n\nKostnad:\n120 kr\n\n\nAnmälan:\nBiljettsläpp onsdag 29 april kl 10.00 (ca)\n\n\n\nBild: Brunkebergsåsen (ungefär i samma läge som Brunkebergstorg)
URL:https://samfundetsterik.se/evenemang/brunkeberg-vandring-tisdag-5-maj-kl-17-30-19-30-ca/
LOCATION:Gustav Adolfs Torg
ATTACH;FMTTYPE=image/jpeg:https://samfundetsterik.se/wp-content/uploads/2026/01/Brunkebergsasens_vardtorn_Jean_Erik_Rehn_1760-liten.jpg
END:VEVENT
BEGIN:VEVENT
DTSTART;TZID=Europe/Stockholm:20260507T170000
DTEND;TZID=Europe/Stockholm:20260507T180000
DTSTAMP:20260425T142024
CREATED:20260330T134820Z
LAST-MODIFIED:20260330T134823Z
UID:10000174-1778173200-1778176800@samfundetsterik.se
SUMMARY:Carl Eldhs ateljémuseum (visning)\, torsdag 7 maj kl 17.00–18.00 (ca)
DESCRIPTION:CARL ELDHS ATELJEMUSEUM \n1919 blev önskan om en arkitektritad ateljé verklighet för Carl Eldh (1873–1954). Byggnaden i Bellevueparken i Stockholm uppfördes för Eldhs räkning efter ritningar av vännen och arkitekten Ragnar Östberg (1866–1945). Byggnaden anpassades för tungt och ibland utrymmeskrävande arbete. Större delen av planritningen ägnades åt rum att arbeta i. Carl Eldh kom att bli den ende som använde byggnaden som konstnärsateljé vilket den var mellan 1919 och 1954. 1963 blev den museum med inventarier och samling intakt. \n\n\n\nNär:\nTorsdag 7 maj kl 17.00–18.00 (ca)\nNästa tillfälle:\nTisdag 12 maj kl 14.00−15.00 (ca)\n\n\nSamling:\nLögebodavägen 10\, Bellevueparken\n\n\nKostnad:\n120 kr\n\n\nAnmälan:\nBiljettsläpp onsdag 29 april kl 10.00 (ca)
URL:https://samfundetsterik.se/evenemang/carl-eldhs-ateljemuseum-visning-torsdag-7-maj-kl-17-00-18-00-ca-2/
LOCATION:Lögebodavägen 10\, Stockholm
ATTACH;FMTTYPE=image/jpeg:https://samfundetsterik.se/wp-content/uploads/2026/03/carl-eldhs-atelje.jpg
END:VEVENT
BEGIN:VEVENT
DTSTART;TZID=Europe/Stockholm:20260512T140000
DTEND;TZID=Europe/Stockholm:20260512T150000
DTSTAMP:20260425T142024
CREATED:20260330T134535Z
LAST-MODIFIED:20260330T134628Z
UID:10000177-1778594400-1778598000@samfundetsterik.se
SUMMARY:Carl Eldhs ateljémuseum (visning)\, tisdag 12 maj kl 14.00–15.00 (ca)
DESCRIPTION:CARL ELDHS ATELJEMUSEUM \n1919 blev önskan om en arkitektritad ateljé verklighet för Carl Eldh (1873–1954). Byggnaden i Bellevueparken i Stockholm uppfördes för Eldhs räkning efter ritningar av vännen och arkitekten Ragnar Östberg (1866–1945). Byggnaden anpassades för tungt och ibland utrymmeskrävande arbete. Större delen av planritningen ägnades åt rum att arbeta i. Carl Eldh kom att bli den ende som använde byggnaden som konstnärsateljé vilket den var mellan 1919 och 1954. 1963 blev den museum med inventarier och samling intakt. \n\n\n\nNär:\nTisdag 12 maj kl 14.00−15.00 (ca)\n\n\nSamling:\nLögebodavägen 10\, Bellevueparken\n\n\nKostnad:\n120 kr\n\n\nAnmälan:\nBiljettsläpp onsdag 29 april kl 10.00 (ca)
URL:https://samfundetsterik.se/evenemang/carl-eldhs-ateljemuseum-visning-tisdag-12-maj-kl-14-00-15-00-ca-2/
LOCATION:Lögebodavägen 10\, Stockholm
ATTACH;FMTTYPE=image/jpeg:https://samfundetsterik.se/wp-content/uploads/2026/03/carl-eldhs-atelje.jpg
END:VEVENT
BEGIN:VEVENT
DTSTART;TZID=Europe/Stockholm:20260519T173000
DTEND;TZID=Europe/Stockholm:20260519T193000
DTSTAMP:20260425T142024
CREATED:20260129T132255Z
LAST-MODIFIED:20260408T064642Z
UID:10000167-1779211800-1779219000@samfundetsterik.se
SUMMARY:Slussen – vad har hänt? Vad händer härnäst? (vandring)\, tisdag 19 maj kl 17.30–19.30 (ca)
DESCRIPTION:SLUSSEN – VAD HAR HÄNT? VAD HÄNDER HÄRNÄST? \nSlussens framtid har diskuterats under lång tid. Flera samråd\, arkitektuppdrag och tävlingar har genomförts och allmänheten har visat ett stort engagemang kring platsens framtida utformning. Den omtalade guldbron är på plats\, Vattentorget med sina avbördningssystem och slussränna är invigd och på Södermalmssidan har slutfinishen av Södermalmstorg med plantering av träd nyligen genomförts. I nästa etapp ska stadsgårdsleden överdäckas för att ge rum åt bland annat Katarinaparken och Nobelcenter. \nAnders Falk\, landskapsarkitekt och tidigare samordnare av gestaltningsfrågor i stadens Slussenorganisation\, och Mattias Nordström\, ansvarig landskapsarkitekt hos White landskapsarkitekter under program- och systemhandlingsskedet tar oss med på en rundtur i det pågående bygget.\nObs! Ingen av våra guider arbetar med projektet i nuläget. \n\n\n\nNär:\nTisdag 19 maj kl 17.30–19.30 (ca)\n\n\nSamling:\nMitt på Ryssgården\, mellan de båda T-baneuppgångarna framför Stadsmuseet.\n\n\nKostnad:\n120 kr\n\n\nAnmälan:\nBiljettsläpp onsdag 8 april kl 10.00 (ca)\n\n\n\nBild: DBOX / Foster + Partners
URL:https://samfundetsterik.se/evenemang/slussen-vad-har-hant-vad-hander-harnast-vandring-tisdag-19-maj-kl-17-30-19-00-ca/
LOCATION:Ryssgården\, Slussen
ATTACH;FMTTYPE=image/jpeg:https://samfundetsterik.se/wp-content/uploads/2026/01/Slussen-liten.jpg
END:VEVENT
BEGIN:VEVENT
DTSTART;TZID=Europe/Stockholm:20260521T140000
DTEND;TZID=Europe/Stockholm:20260521T160000
DTSTAMP:20260425T142024
CREATED:20260129T135844Z
LAST-MODIFIED:20260301T191741Z
UID:10000169-1779372000-1779379200@samfundetsterik.se
SUMMARY:Brunkeberg\, (vandring)\, torsdag 21 maj kl 14.00-16.00 (ca)
DESCRIPTION:BRUNKEBERG \nNöjesliv och fest\, misär och mord\, gammalt och nytt\, tradition och modernitet\, telefoner\, badhus\, brunnar\, brandstationer och kyrkor\, prostitution\, åldringsvård\, frikyrkokapell\, försvunna torg\, spelklubbar\, och ett försvunnet hus med färgstark historia. Vi vandrar från Gustav Adolfs torg till Brunkebergstorg och vidare till Johannes kyrka under ledning av idéhistoriker Christian Gradholt. \n\n\n\nNär:\nTorsdag 21 maj kl 14.00-16.00 (ca)\n\n\nSamling:\nGustav Adolfs Torg vid statyn\n\n\nKostnad:\n120 kr\n\n\nAnmälan:\nBiljettsläpp onsdag 29 april kl 10.00 (ca)\n\n\n\nBild: Brunkebergsåsen (ungefär i samma läge som Brunkebergstorg)
URL:https://samfundetsterik.se/evenemang/36741/
LOCATION:Gustav Adolfs Torg
ATTACH;FMTTYPE=image/jpeg:https://samfundetsterik.se/wp-content/uploads/2026/01/Brunkebergsasens_vardtorn_Jean_Erik_Rehn_1760-liten.jpg
END:VEVENT
BEGIN:VEVENT
DTSTART;TZID=Europe/Stockholm:20260527T170000
DTEND;TZID=Europe/Stockholm:20260527T183000
DTSTAMP:20260425T142024
CREATED:20260120T104103Z
LAST-MODIFIED:20260408T063852Z
UID:10000153-1779901200-1779906600@samfundetsterik.se
SUMMARY:Med höjd blick – vilken stil har husen? (vandring)\, onsdag 27 maj kl 17.00–18.30 (ca)
DESCRIPTION:MED HÖJD BLICK – VILKEN STIL HAR HUSEN? \nVad utmärker ett hus från 1880-talet. Från 1890-talet? Osv. Och hur kan\nvi avgöra att en fasadhyvlad byggnad som ser relativt nybyggd ut\, i själva\nverket är betydligt äldre. Vi utforskar olika stilepoker decennievis\, från\n1700-talet och framåt\, såsom rokoko\, nystilarna\, nationalromantik\,\ntjugotalsklassicismen och funktionalism. \nLotta von Liewen Wistrand\, arkitekturhistoriker och verksamhetsansvarig\npå Samfundet S:t Erik leder vandringen. \n\n\n\nNär:\nOnsdag 27 maj\, kl 17.00–18.30\n\n\nSamling:\nHantverkargatan 5 (innanför portalen till Kungliga myntet)\n\n\nKostnad:\n120 kr\n\n\nAnmälan:\nBiljetterna släpps onsdag 8 april kl 10.00 (ca) på vår hemsida\n\n\nÖvrigt\nHitta hit. T-bana blå linje till Rådhuset\, uppgång (östra) Hantverkargatan / Stadshuset\n\n\n\nBilden är ett utsnitt från färgaffischen Stockholms malmar – epoker och färgkaraktärer\, Stockholms stadsbyggnadskontor\, 1980.
URL:https://samfundetsterik.se/evenemang/med-hojd-blick-vilken-stil-har-husen-vandring-onsdag-27-maj-kl-17-00-18-30-ca/
ATTACH;FMTTYPE=image/jpeg:https://samfundetsterik.se/wp-content/uploads/2025/10/Stilanalys2.jpg
END:VEVENT
BEGIN:VEVENT
DTSTART;TZID=Europe/Stockholm:20260602T090000
DTEND;TZID=Europe/Stockholm:20260602T180000
DTSTAMP:20260425T142024
CREATED:20260205T102240Z
LAST-MODIFIED:20260205T103950Z
UID:10000171-1780390800-1780423200@samfundetsterik.se
SUMMARY:Vårstavi och Segersäng (bussutflykt)\, tisdag 2 juni kl 09.00–18.00 (ca)
DESCRIPTION:BUSSUTFLYKT TILL VÅRSTAVI OCH SEGERSÄNG \nVi besöker Vårstavi\, som konstnären och psykiatrikern Poul Bjerre lät uppföra tillsammans med sin hustru Gunhild Posse för snart 150 år sedan. Villan\, byggd i Arts and Crafts-stil\, ligger idylliskt vid Malmsjön i Vårsta\, Botkyrka. Här utvecklade Poul Bjerre sina banbrytande tankar om psykoterapi och människans inre liv\, och härifrån drev han sitt livslånga engagemang för fred och mänsklig förståelse. Vårstavi blev en mötesplats där läkare\, författare\, konstnärer och filosofer samlades för samtal om vetenskap\, konst och samhällets framtid.\nVårstavi förvärvades 2023 av Botkyrka kommun. Dessförinnan var gården ute ett antal gånger till allmän försäljning och dess framtid osäker. \nVi fortsätter till Segersängs by\, uppfört 1996–2010 i regi av SMÅA\, med Hans Bäckström\, Södergruppen\, som ansvarig arkitekt. Förebilderna hämtades i landskapets traditionella bebyggelse och miljö. Förslaget vann tävlingen ”Idétävling för framtidens landsbygd” 1993. \nMonica Andersson\, fil dr statsvetenskap och tidigare ordförande i Samfundet S:t Erik guidar oss och berättar om området. \nYtterligare besöksmål kan tillkomma i mån av tid. \nHär kan ni läsa mer om Vårstavi och Poul Bjerre:\nhttps://poulbjerre.org/wp-content/uploads/2020/06/bjc3b6rn-sahlins-text-om-vc3a5rstavi.pdf \nBotkyrka kommun som 2025 förvärvade fastigheten har följande information på sin hemsida:\nhttps://poulbjerre.org/wp-content/uploads/2020/06/bjc3b6rn-sahlins-text-om-vc3a5rstavi.pdf \n\n\n\nNär:\nTisdag 2 juni kl 09.00–18.00 (ca)\n\n\nSamling:\nKl 08.45 vid Karlbergsvägen 22 (Odenplan)\, snett emot Gustav Vasa kyrka\n\n\nKostnad:\n300 kr\n\n\nAnmälan:\nBiljettsläpp onsdag 29 april kl 10.00 (ca)\n\n\nÖvrigt:\nLunchstopp troligtvis på Häringe slott. Mer information kommer. Det går naturligtvis utmärkt att ta med sig egen matsäck.
URL:https://samfundetsterik.se/evenemang/varstavi-och-segersang-bussutflykt-tisdag-2-juni-kl-09-00-18-00-ca/
ATTACH;FMTTYPE=image/jpeg:https://samfundetsterik.se/wp-content/uploads/2026/02/Varstavi.jpg
END:VEVENT
END:VCALENDAR