BEGIN:VCALENDAR
VERSION:2.0
PRODID:-//Samfundet S:t Erik - ECPv6.15.12.2//NONSGML v1.0//EN
CALSCALE:GREGORIAN
METHOD:PUBLISH
X-ORIGINAL-URL:https://samfundetsterik.se
X-WR-CALDESC:Händelser för Samfundet S:t Erik
REFRESH-INTERVAL;VALUE=DURATION:PT1H
X-Robots-Tag:noindex
X-PUBLISHED-TTL:PT1H
BEGIN:VTIMEZONE
TZID:Europe/Stockholm
BEGIN:DAYLIGHT
TZOFFSETFROM:+0100
TZOFFSETTO:+0200
TZNAME:CEST
DTSTART:20250330T010000
END:DAYLIGHT
BEGIN:STANDARD
TZOFFSETFROM:+0200
TZOFFSETTO:+0100
TZNAME:CET
DTSTART:20251026T010000
END:STANDARD
BEGIN:DAYLIGHT
TZOFFSETFROM:+0100
TZOFFSETTO:+0200
TZNAME:CEST
DTSTART:20260329T010000
END:DAYLIGHT
BEGIN:STANDARD
TZOFFSETFROM:+0200
TZOFFSETTO:+0100
TZNAME:CET
DTSTART:20261025T010000
END:STANDARD
BEGIN:DAYLIGHT
TZOFFSETFROM:+0100
TZOFFSETTO:+0200
TZNAME:CEST
DTSTART:20270328T010000
END:DAYLIGHT
BEGIN:STANDARD
TZOFFSETFROM:+0200
TZOFFSETTO:+0100
TZNAME:CET
DTSTART:20271031T010000
END:STANDARD
END:VTIMEZONE
BEGIN:VEVENT
DTSTART;TZID=Europe/Stockholm:20260428T130000
DTEND;TZID=Europe/Stockholm:20260428T150000
DTSTAMP:20260424T202102
CREATED:20260129T131755Z
LAST-MODIFIED:20260408T064227Z
UID:10000166-1777381200-1777388400@samfundetsterik.se
SUMMARY:Slussen – vad har hänt? Vad händer härnäst? (vandring)\, tisdag 28 april kl 13.00–15.00 (ca)
DESCRIPTION:SLUSSEN – VAD HAR HÄNT? VAD HÄNDER HÄRNÄST? \nSlussens framtid har diskuterats under lång tid. Flera samråd\, arkitektuppdrag och tävlingar har genomförts och allmänheten har visat ett stort engagemang kring platsens framtida utformning. Den omtalade guldbron är på plats\, Vattentorget med sina avbördningssystem och slussränna är invigd och på Södermalmssidan har slutfinishen av Södermalmstorg med plantering av träd nyligen genomförts. I nästa etapp ska stadsgårdsleden överdäckas för att ge rum åt bland annat Katarinaparken och Nobelcenter. \nAnders Falk\, landskapsarkitekt och tidigare samordnare av gestaltningsfrågor i stadens Slussenorganisation\, och Mattias Nordström\, ansvarig landskapsarkitekt hos White landskapsarkitekter under program- och systemhandlingsskedet tar oss med på en rundtur i det pågående bygget.\nObs! Ingen av våra guider arbetar med projektet i nuläget. \n\n\n\nNär:\nTisdag 28 april kl 13.00–15.00 (ca) \nNästa tillfälle:\nTisdag 19 maj kl 17.30–19.30 (ca)\n\n\nSamling:\nMitt på Ryssgården\, mellan de båda T-baneuppgångarna framför Stadsmuseet.\n\n\nKostnad:\n120 kr\n\n\nAnmälan:\nBiljettsläpp onsdag 8 april kl 10.00 (ca)\n\n\n\nBild: DBOX / Foster + Partners
URL:https://samfundetsterik.se/evenemang/slussen-vad-har-hant-vad-hander-harnast-vandring-tisdag-28-april-kl-13-00-15-00-ca/
LOCATION:Ryssgården\, Slussen
ATTACH;FMTTYPE=image/jpeg:https://samfundetsterik.se/wp-content/uploads/2026/01/Slussen-liten.jpg
END:VEVENT
END:VCALENDAR