BEGIN:VCALENDAR
VERSION:2.0
PRODID:-//Samfundet S:t Erik - ECPv6.15.12.2//NONSGML v1.0//EN
CALSCALE:GREGORIAN
METHOD:PUBLISH
X-WR-CALNAME:Samfundet S:t Erik
X-ORIGINAL-URL:https://samfundetsterik.se
X-WR-CALDESC:Händelser för Samfundet S:t Erik
REFRESH-INTERVAL;VALUE=DURATION:PT1H
X-Robots-Tag:noindex
X-PUBLISHED-TTL:PT1H
BEGIN:VTIMEZONE
TZID:Europe/Stockholm
BEGIN:DAYLIGHT
TZOFFSETFROM:+0100
TZOFFSETTO:+0200
TZNAME:CEST
DTSTART:20250330T010000
END:DAYLIGHT
BEGIN:STANDARD
TZOFFSETFROM:+0200
TZOFFSETTO:+0100
TZNAME:CET
DTSTART:20251026T010000
END:STANDARD
BEGIN:DAYLIGHT
TZOFFSETFROM:+0100
TZOFFSETTO:+0200
TZNAME:CEST
DTSTART:20260329T010000
END:DAYLIGHT
BEGIN:STANDARD
TZOFFSETFROM:+0200
TZOFFSETTO:+0100
TZNAME:CET
DTSTART:20261025T010000
END:STANDARD
BEGIN:DAYLIGHT
TZOFFSETFROM:+0100
TZOFFSETTO:+0200
TZNAME:CEST
DTSTART:20270328T010000
END:DAYLIGHT
BEGIN:STANDARD
TZOFFSETFROM:+0200
TZOFFSETTO:+0100
TZNAME:CET
DTSTART:20271031T010000
END:STANDARD
END:VTIMEZONE
BEGIN:VEVENT
DTSTART;TZID=Europe/Stockholm:20260422T183000
DTEND;TZID=Europe/Stockholm:20260422T220000
DTSTAMP:20260422T012209
CREATED:20260401T103242Z
LAST-MODIFIED:20260402T074447Z
UID:10000181-1776882600-1776895200@samfundetsterik.se
SUMMARY:Årsmöte onsdag 22 april 2026\, kl 18.30–22.00 (ca)\, Bryggarsalen
DESCRIPTION:KALLELSE TILL ÅRSMÖTE 2026\nSamfundet S:t Eriks medlemmar kallas härmed till årsmöte den onsdagen den 22 april 2026 kl 18.30–20.00.\nObs! Årsmötet äger rum i Bryggarsalen\, Brygghuset\, Norrtullsgatan 12N\, 113 27 Stockholm (nära Odenplan). \nÅrsmötet är kostnadsfritt\, men föranmäl dig gärna (dock ej obligatoriskt). \nÅrsmötesprogram\nOrdförande Knut Weibull hälsar välkommen \nSedvanliga årsmötesförhandlingar \nAvtackning avgående ledamöter \nUtdelning av Samfundet S:t Eriks belöningsplakett och pris 2026\n”Tilldelas den som i samfundets anda utfört berömliga insatser av vetenskaplig\, konstnärlig\, journalistisk\neller kulturminnesvårdande natur”. \nUtdelning av Stockholmiapriset 2026\nUppsatstävling för bästa master- eller magisteruppsats (godkänd under läsåret 2025) i samarbete mellan\nSamfundet S:t Erik\, Stockholmia – forskning och förlag och Stadsarkivet. \n125 år av kärlek till Stockholm – Samfundet S:t Erik i arkiven\nHampus Busk\, arkivarie vid Stockholms stadsarkiv\, berättar med utgångspunkt i Samfundet S:t Eriks omfångsrika arkiv i Stockholms stadsarkiv. Genom protokoll\, årsböcker och oväntade spår väcks historien till liv i en stillsam men tankeväckande upptäcktsfärd. Här framträder berättelsen om ett samfund som inte bara följt stadens utveckling sedan 1901 – utan också varit med och format hur vi förstår Stockholm av idag.\n \nMingel\nDirekt efter årsmötet\, cirka kl 20.00 välkomnas medlemmarna till mingel tillsammans med samfundets\nstyrelse och gäster.\nBiljett till minglet köps via vår hemsida utifrån två alternativ: ett glas mousserande för 95 kronor inklusive snacks\neller ett glas alkoholfritt för 50 kronor inklusive snacks.\nMinglet avslutas cirka kl 22.00. \nDirektlänk biljett 95 kronor \nDirektlänk biljett 50 kronor \nVarmt välkomna! \nDAGORDNING \n\nÅrsmötets öppnande\nVal av ordförande vid mötet\nVal av sekreterare vid mötet\nVal av en person att jämte ordföranden justera dagens protokoll\nGodkännande av dagordningen för årsmötet\nFråga om årsmötet sammankallats i behörig ordning\nFramläggande av årsredovisning för 2025 och revisorernas berättelse för verksamhetsåret\nBeslut om fastställande av resultat- och balansräkningarna för 2025\nBeslut om disposition av årets vinst\nFråga om ansvarsfrihet för styrelseledamöterna\nVal av ordförande för samfundet\, för en tid av ett år\nVal av tre ordinarie ledamöter i styrelsen\, för en tid av två år\nVal av två suppleanter i styrelsen\, för en tid av två år\nVal av två ordinarie revisorer och två revisorssuppleanter\, för en tid av ett år\nVal av valberedning om tre personer\, för en tid av ett år\nFastställande av medlemsavgifter för år 2027\nFastställande av arvode till styrelsen för år 2026\nInkommen motion\nÅrsmötets avslutande\n\nÅrsmöteshandlingar\nDagordning med bilagor inkl. inkommen motion och styrelsens svar\nÅrsredovisning 2025\nRevisionsberättelse 2025 \nVerksamhetsberättelse 2025 \n 
URL:https://samfundetsterik.se/evenemang/arsmote-onsdag-22-april-kl-18-30-22-00-ca-bryggarsalen/
ATTACH;FMTTYPE=image/jpeg:https://samfundetsterik.se/wp-content/uploads/2025/02/arsmote2025-scaled.jpg
END:VEVENT
BEGIN:VEVENT
DTSTART;TZID=Europe/Stockholm:20260422T200000
DTEND;TZID=Europe/Stockholm:20260422T220000
DTSTAMP:20260422T012209
CREATED:20260330T145548Z
LAST-MODIFIED:20260402T080144Z
UID:10000180-1776888000-1776895200@samfundetsterik.se
SUMMARY:Årsmötesmingel à 50 kr (alkoholfri dryck med snacks ingår)
DESCRIPTION:
URL:https://samfundetsterik.se/evenemang/arsmotesmingel-a-50-kr-alkoholfri-dryck-med-snacks-ingar/
ATTACH;FMTTYPE=image/jpeg:https://samfundetsterik.se/wp-content/uploads/2026/03/arsmotesmingel.jpg
END:VEVENT
BEGIN:VEVENT
DTSTART;TZID=Europe/Stockholm:20260422T200000
DTEND;TZID=Europe/Stockholm:20260422T220000
DTSTAMP:20260422T012209
CREATED:20260331T115026Z
LAST-MODIFIED:20260402T080213Z
UID:10000182-1776888000-1776895200@samfundetsterik.se
SUMMARY:Årsmötesmingel à 95 kr (1 glas mousserande vin snacks ingår)
DESCRIPTION:
URL:https://samfundetsterik.se/evenemang/arsmotesmingel-a-90-kr-alkoholfri-dryck-med-snacks-ingar/
ATTACH;FMTTYPE=image/jpeg:https://samfundetsterik.se/wp-content/uploads/2026/03/arsmotesmingel2.jpg
END:VEVENT
END:VCALENDAR