BEGIN:VCALENDAR
VERSION:2.0
PRODID:-//Samfundet S:t Erik - ECPv6.15.12.2//NONSGML v1.0//EN
CALSCALE:GREGORIAN
METHOD:PUBLISH
X-ORIGINAL-URL:https://samfundetsterik.se
X-WR-CALDESC:Händelser för Samfundet S:t Erik
REFRESH-INTERVAL;VALUE=DURATION:PT1H
X-Robots-Tag:noindex
X-PUBLISHED-TTL:PT1H
BEGIN:VTIMEZONE
TZID:Europe/Stockholm
BEGIN:DAYLIGHT
TZOFFSETFROM:+0100
TZOFFSETTO:+0200
TZNAME:CEST
DTSTART:20220327T010000
END:DAYLIGHT
BEGIN:STANDARD
TZOFFSETFROM:+0200
TZOFFSETTO:+0100
TZNAME:CET
DTSTART:20221030T010000
END:STANDARD
BEGIN:DAYLIGHT
TZOFFSETFROM:+0100
TZOFFSETTO:+0200
TZNAME:CEST
DTSTART:20230326T010000
END:DAYLIGHT
BEGIN:STANDARD
TZOFFSETFROM:+0200
TZOFFSETTO:+0100
TZNAME:CET
DTSTART:20231029T010000
END:STANDARD
BEGIN:DAYLIGHT
TZOFFSETFROM:+0100
TZOFFSETTO:+0200
TZNAME:CEST
DTSTART:20240331T010000
END:DAYLIGHT
BEGIN:STANDARD
TZOFFSETFROM:+0200
TZOFFSETTO:+0100
TZNAME:CET
DTSTART:20241027T010000
END:STANDARD
END:VTIMEZONE
BEGIN:VEVENT
DTSTART;TZID=Europe/Stockholm:20230504T173000
DTEND;TZID=Europe/Stockholm:20230504T190000
DTSTAMP:20260419T180500
CREATED:20230409T084939Z
LAST-MODIFIED:20230417T083509Z
UID:10000019-1683221400-1683226800@samfundetsterik.se
SUMMARY:I postmodernismens offentliga rum (vandring)
DESCRIPTION:Modernismens i alla fall symboliska slutpunkt inföll med alm­striden i Kungsträdgården 1971. Därefter vidtog en kort och intensiv epok som på många sätt förlöste oss från modernismens stränga dogmer ‒ nämligen postmodernismen som i stället betonade det personliga och humoristiska inom design. Allt behövde inte vara logiskt eller hänga ihop. Tider kunde blandas. Alla tolkningar var tillåtna. \nThorbjörn Andersson\, landskapsarkitekt\, leder oss genom tre stadsrum som förnyades under epoken\, Kungsträdgården\, Blasieholmstorg och Stureplan. \n\n\n\nNär:\nTor 4 maj kl 17.30–19.00 (ca)\n\n\nSamling:\nBlasieholmstorg\, östra hästen.\n\n\nKostnad:\n120 kr
URL:https://samfundetsterik.se/evenemang/i-postmodernismens-offentliga-rum-vandring-2/
LOCATION:Blasieholmstorg\, östra hästen.
ATTACH;FMTTYPE=image/jpeg:https://samfundetsterik.se/wp-content/uploads/2023/04/Kungstradgarden--scaled.jpg
END:VEVENT
END:VCALENDAR