BEGIN:VCALENDAR
VERSION:2.0
PRODID:-//Samfundet S:t Erik - ECPv6.15.12.2//NONSGML v1.0//EN
CALSCALE:GREGORIAN
METHOD:PUBLISH
X-WR-CALNAME:Samfundet S:t Erik
X-ORIGINAL-URL:https://samfundetsterik.se
X-WR-CALDESC:Händelser för Samfundet S:t Erik
REFRESH-INTERVAL;VALUE=DURATION:PT1H
X-Robots-Tag:noindex
X-PUBLISHED-TTL:PT1H
BEGIN:VTIMEZONE
TZID:Europe/Stockholm
BEGIN:DAYLIGHT
TZOFFSETFROM:+0100
TZOFFSETTO:+0200
TZNAME:CEST
DTSTART:20220327T010000
END:DAYLIGHT
BEGIN:STANDARD
TZOFFSETFROM:+0200
TZOFFSETTO:+0100
TZNAME:CET
DTSTART:20221030T010000
END:STANDARD
BEGIN:DAYLIGHT
TZOFFSETFROM:+0100
TZOFFSETTO:+0200
TZNAME:CEST
DTSTART:20230326T010000
END:DAYLIGHT
BEGIN:STANDARD
TZOFFSETFROM:+0200
TZOFFSETTO:+0100
TZNAME:CET
DTSTART:20231029T010000
END:STANDARD
BEGIN:DAYLIGHT
TZOFFSETFROM:+0100
TZOFFSETTO:+0200
TZNAME:CEST
DTSTART:20240331T010000
END:DAYLIGHT
BEGIN:STANDARD
TZOFFSETFROM:+0200
TZOFFSETTO:+0100
TZNAME:CET
DTSTART:20241027T010000
END:STANDARD
END:VTIMEZONE
BEGIN:VEVENT
DTSTART;TZID=Europe/Stockholm:20230419T140000
DTEND;TZID=Europe/Stockholm:20230419T144500
DTSTAMP:20260419T190919
CREATED:20230409T085712Z
LAST-MODIFIED:20230418T131840Z
UID:10000022-1681912800-1681915500@samfundetsterik.se
SUMMARY:Tessinska palatset (visning). FULLTECKNAD
DESCRIPTION:Nicodemus Tessin d.y. (1654–1728) lät mellan 1694 och cirka 1700 uppföra detta palats som privatbostad åt sig och sin familj. På en tomt som inte är större än en normalstor villatomt i dagens Stockholm skapade Tessin ett magnifikt palats i miniatyr som med sina skenperspektiv lekfullt bedrar besökarens ögon att se större rymder än de faktiska. Under ledning av palatsets husföreståndare Pär Hernell besöker vi paradvåningen. \n\n\n\nNär:\nOns 19 april\nVisning 1: kl.14.00–14.45\n\n\nSamling:\nSlottsbacken 4\n\n\nKostnad:\n120 kr\n\n\nAnmälan:\nTidigast från ons 12 april kl 10.00
URL:https://samfundetsterik.se/evenemang/tessinska-palatset-visning/
LOCATION:Slottsbacken 4
ATTACH;FMTTYPE=image/jpeg:https://samfundetsterik.se/wp-content/uploads/2023/03/Tessinska_palatset-Frankie-Fouganthin-scaled.jpg
END:VEVENT
BEGIN:VEVENT
DTSTART;TZID=Europe/Stockholm:20230419T151500
DTEND;TZID=Europe/Stockholm:20230419T160000
DTSTAMP:20260419T190919
CREATED:20230409T085740Z
LAST-MODIFIED:20230418T132051Z
UID:10000023-1681917300-1681920000@samfundetsterik.se
SUMMARY:Tessinska palatset (visning). FULLTECKNAD
DESCRIPTION:Nicodemus Tessin d.y. (1654–1728) lät mellan 1694 och cirka 1700 uppföra detta palats som privatbostad åt sig och sin familj. På en tomt som inte är större än en normalstor villatomt i dagens Stockholm skapade Tessin ett magnifikt palats i miniatyr som med sina skenperspektiv lekfullt bedrar besökarens ögon att se större rymder än de faktiska. Under ledning av palatsets husföreståndare Pär Hernell besöker vi paradvåningen. \n\n\n\nNär:\nOns 19 april\nVisning 2: kl.15.15–16.00\n\n\nSamling:\nSlottsbacken 4\n\n\nKostnad:\n120 kr\n\n\nAnmälan:\nTidigast från ons 12 april kl 10.00
URL:https://samfundetsterik.se/evenemang/tessinska-palatset-visning-2/
LOCATION:Slottsbacken 4
ATTACH;FMTTYPE=image/jpeg:https://samfundetsterik.se/wp-content/uploads/2023/03/Tessinska_palatset-Frankie-Fouganthin-scaled.jpg
END:VEVENT
END:VCALENDAR